BEGIN:VCALENDAR
VERSION:2.0
PRODID:-//wp-events-plugin.com//7.2.3.1//EN
TZID:Europe/Berlin
X-WR-TIMEZONE:Europe/Berlin
BEGIN:VEVENT
UID:23@swv-haslach.de
DTSTART;TZID=Europe/Berlin:20211003T113000
DTEND;TZID=Europe/Berlin:20211003T190000
DTSTAMP:20210406T072543Z
URL:https://swv-haslach.de/events/weinwanderung-diersburg-gengenbach/
SUMMARY:Weinwanderung Diersburg - Gengenbach
DESCRIPTION:Der Schwarzwaldverein Haslach lädt zu einer Wanderung entlang 
 des Weinwanderpfades von Diersburg nach\nGengenbach ein. Der Ortenauer Wei
 npfad erschließt die\nVorberglandschaft von Gernsbach bis Diersburg mit i
 hren\nbekannten Weinanbaugebieten. Durch Weinberge\, Obstanlagen\, Wälder
  und durch freundliche Dörfer und Städtchen führen die Wege durch uralt
 e Kulturlandschaften.\nPrächtige Ausblicke auf die Schwarzwaldberge\, Vog
 esen\nund Rheinebene entschädigen für manchen asphaltierten\nStreckenabs
 chnitt. Unterwegs ist eine Rast an der Barack\nHütte eingeplant. Den Absc
 hluß machen wir in Gengenbach von wo wir im Halben- bis Stunden-Takt nach
 \nHaslach fahren können oder in Haslach. Rucksackverpflegung und Getränk
 e für unterwegs mitnehmen.\n\n 	Kilometer: 11\n 	Höhenmeter: 240\n 	Schw
 ierigkeitsgrad: leicht – mittel\n\nTreff: 11.40 Uhr Bahnhof\, Fahrt mit 
 Zug ab Gleis 2\nKosten: Ortenau Ticket ca. 5 € pro Person\,\nKinder bis 
 14 frei\nWanderführer: Anton Suhm
LOCATION:Bahnhof Haslach\, Bahnhof\, Haslach\, Deutschland\, 77716\, Bitte 
 wählen Sie ein Bundesland aus\, Deutschland
GEO:48.27968;8.088157
X-APPLE-STRUCTURED-LOCATION;VALUE=URI;X-ADDRESS=Bahnhof\, Haslach\, Deutsch
 land\, 77716\, Bitte wählen Sie ein Bundesland aus\, Deutschland;X-APPLE-
 RADIUS=100;X-TITLE=Bahnhof Haslach:geo:48.27968,8.088157
END:VEVENT
BEGIN:VTIMEZONE
TZID:Europe/Berlin
X-LIC-LOCATION:Europe/Berlin
BEGIN:DAYLIGHT
DTSTART:20210328T030000
TZOFFSETFROM:+0100
TZOFFSETTO:+0200
TZNAME:CEST
END:DAYLIGHT
END:VTIMEZONE
END:VCALENDAR