BEGIN:VCALENDAR
VERSION:2.0
PRODID:-//wp-events-plugin.com//7.2.3.1//EN
TZID:Europe/Berlin
X-WR-TIMEZONE:Europe/Berlin
BEGIN:VEVENT
UID:17@swv-haslach.de
DTSTART;TZID=Europe/Berlin:20210807T100000
DTEND;TZID=Europe/Berlin:20210807T190000
DTSTAMP:20210406T072101Z
URL:https://swv-haslach.de/events/wanderung-durch-die-ravennaschlucht/
SUMMARY:Wanderung durch die Ravennaschlucht
DESCRIPTION:Startpunkt ist das Hofgut Sternen in Breitnau/Hinterzarten. Auf
  der abwechslungsreichen Wanderung\nbestehen mehrere Möglichkeiten zur Ra
 st an kleinen\nWasserfällen und idyllischen Plätzen. Rucksackverpflegung
  erforderlich. Wanderung auch für Kinder geeignet.\n\n 	Kilometer: 10\n 	
 Höhenmeter: 350\n 	Schwierigkeitsgrad: leicht – mittel\n\nwww.suedschar
 zwald.biz\nTreff: 10.00 Uhr Klosterparkplatz\nAn- und Rückfahrt mit Messm
 er-Bus\nAnmeldung bis spätestens 03.08. bei Markus Sum\,\nTel. 6231 oder 
 per Mail an markus.sum@swv-haslach.de.\nWanderführer Silvia und Joachim M
 essmer
LOCATION:Klosterparkplatz Haslach\, Klosterstrasse\, Haslach\, Deutschland\
 , 77716\, Bitte wählen Sie ein Bundesland aus\, Deutschland
GEO:48.276375;8.08459
X-APPLE-STRUCTURED-LOCATION;VALUE=URI;X-ADDRESS=Klosterstrasse\, Haslach\, 
 Deutschland\, 77716\, Bitte wählen Sie ein Bundesland aus\, Deutschland;X
 -APPLE-RADIUS=100;X-TITLE=Klosterparkplatz Haslach:geo:48.276375,8.08459
END:VEVENT
BEGIN:VTIMEZONE
TZID:Europe/Berlin
X-LIC-LOCATION:Europe/Berlin
BEGIN:DAYLIGHT
DTSTART:20210328T030000
TZOFFSETFROM:+0100
TZOFFSETTO:+0200
TZNAME:CEST
END:DAYLIGHT
END:VTIMEZONE
END:VCALENDAR