BEGIN:VCALENDAR
VERSION:2.0
PRODID:-//wp-events-plugin.com//7.2.3.1//EN
TZID:Europe/Berlin
X-WR-TIMEZONE:Europe/Berlin
BEGIN:VEVENT
UID:70@swv-haslach.de
DTSTART;TZID=Europe/Berlin:20230318T093000
DTEND;TZID=Europe/Berlin:20230318T150000
DTSTAMP:20230109T085057Z
URL:https://swv-haslach.de/events/von-biberach-bis-gengenbach-7-taeler-weg
 /
SUMMARY:Von Biberach bis Gengenbach (7-Täler-Weg)
DESCRIPTION:Mit dem Zug fahren wir nach Biberach. Von dort geht es zum Bibe
 racher Schwimmbad\, wo wir auf den Tälerpfad treffen\, der uns über Sch
 önberg\, Bergach und Schwaibach bis nach Gengenbach führt. Mit dem Zug f
 ahren wir zurück nach Haslach.\n\nRucksackverpflegung erforderlich\, eine
  Schlusseinkehr ist eingeplant.\n◊ Kilometer: ca. 19 ◊ Höhenmeter: ca
 . 500\n◊ Schwierigkeitsgrad: mittel\n\nTreff : 9.30 Uhr Bahnhof\; An- un
 d Rückfahrt mit dem Zug\, Rückfahrt 14:50 Uhr (stündlich)\,\nunverbindl
 iche Anmeldung erwünscht unter:\njuergen.burger@kabelbw.de\n\nWanderführ
 er: Jürgen Burger
END:VEVENT
BEGIN:VTIMEZONE
TZID:Europe/Berlin
X-LIC-LOCATION:Europe/Berlin
BEGIN:STANDARD
DTSTART:20221030T020000
TZOFFSETFROM:+0200
TZOFFSETTO:+0100
TZNAME:CET
END:STANDARD
END:VTIMEZONE
END:VCALENDAR