BEGIN:VCALENDAR
VERSION:2.0
PRODID:-//wp-events-plugin.com//7.2.3.1//EN
TZID:Europe/Berlin
X-WR-TIMEZONE:Europe/Berlin
BEGIN:VEVENT
UID:20@swv-haslach.de
DTSTART;TZID=Europe/Berlin:20210905T093000
DTEND;TZID=Europe/Berlin:20210905T190000
DTSTAMP:20210406T072312Z
URL:https://swv-haslach.de/events/peterstaler-himmelssteig/
SUMMARY:Peterstaler Himmelssteig
DESCRIPTION:Ausgangspunkt ist am Freibad Bad Peterstal-Griesbach.\nEine ans
 pruchsvolle aber aussichtsreiche und genussvolle Tour mit vielen Höhepunk
 ten. Rucksackverpflegung\nmitnehmen. Schlusseinkehr in Haslach geplant.\n\
 n 	Kilometer: 10\,6\n 	Höhenmeter: 615\n 	Schwierigkeitsgrad: mittel – 
 anspruchsvoll\n\nTreff: 9.30 Uhr Klosterparkplatz\nAn- und Rückfahrt Mess
 mer-Bus\nAnmeldung bis spätestens 01.09. in der Tourist Information\, Tel
 . 706-172 oder per Mail an info@haslach.de\nWanderführer: Doris und Horst
  Kopp
LOCATION:Klosterparkplatz Haslach\, Klosterstrasse\, Haslach\, Deutschland\
 , 77716\, Bitte wählen Sie ein Bundesland aus\, Deutschland
GEO:48.276375;8.08459
X-APPLE-STRUCTURED-LOCATION;VALUE=URI;X-ADDRESS=Klosterstrasse\, Haslach\, 
 Deutschland\, 77716\, Bitte wählen Sie ein Bundesland aus\, Deutschland;X
 -APPLE-RADIUS=100;X-TITLE=Klosterparkplatz Haslach:geo:48.276375,8.08459
END:VEVENT
BEGIN:VTIMEZONE
TZID:Europe/Berlin
X-LIC-LOCATION:Europe/Berlin
BEGIN:DAYLIGHT
DTSTART:20210328T030000
TZOFFSETFROM:+0100
TZOFFSETTO:+0200
TZNAME:CEST
END:DAYLIGHT
END:VTIMEZONE
END:VCALENDAR