BEGIN:VCALENDAR
VERSION:2.0
PRODID:-//wp-events-plugin.com//7.2.3.1//EN
TZID:Europe/Berlin
X-WR-TIMEZONE:Europe/Berlin
BEGIN:VEVENT
UID:22@swv-haslach.de
DTSTART;TZID=Europe/Berlin:20210925T090000
DTEND;TZID=Europe/Berlin:20210926T190000
DTSTAMP:20210920T144915Z
URL:https://swv-haslach.de/events/mit-dem-vorstand-in-den-vogesen-2-tagest
 our/
SUMMARY:Mit dem Vorstand in den Vogesen / 2-Tagestour
DESCRIPTION:1. Tag: „Drei-Seen-Tour“: Dieser Klassiker in den Hochvoges
 en führt uns an den drei wunderschönen Eiszeitseen Lac Blanc\, Lac Noir 
 und Lac Forlet vorbei.\nAnschließend erreichen wir den Vogesenhauptkamm\n
 mit alpiner Vegetation und atemberaubender Aussicht.\nRucksackverpflegung\
 , Getränke erforderlich.\nÜbernachtung ist im Hotel de La Poste Le Bonho
 mme Village vorgesehen.\n\n 	Kilometer: 12\n 	Höhenmeter: 500\n 	Schwier
 igkeitsgrad: mittel\n\n2. Tag: „Die Burgen von Ribeauvillé“ Auf der a
 ussichtsreichen Tour erreichen wir zunächst die drei Rappoltsteiner Burgr
 uinen\, das Château Saint Ulric\, Giersberg\nund Haut-Ribeaupierre. In de
 r zweiten Hälfte der\nWanderung treffen wir auf den Wallfahrtsort Kloster
 \nDusenbach. Von dort wandern wir zurück nach Ribeauvillé. Rucksackverpf
 legung\, Getränke erforderlich.\n\n 	Kilometer: 10\n 	Höhenmeter: 450\n 
 	Schwierigkeitsgrad: leicht - mittel\n\nWanderführer: Simone Giesler\, Fr
 ank Werstein\,\nJoachim Prinzbach\nWir fahren mit PKW-Fahrgemeinschaft\nAn
 meldung: Wer mit Übernachtung mitgeht\, soll sich\nbitte bis spätestens 
 01.09. bei Joachim Prinzbach\,\nTel. 979683 oder per Mail an joachim.prinz
 bach@\nswv-haslach.de anmelden\n\nNähere Informationen und Details ersche
 inen rechtzeitig im Bürgerblatt und im Aushangkasten in der \nHauptstraß
 e – bitte beachten!\n\nHôtel de la Poste\nRue du 3ème Spahi Algérien\
 n68650 Le Bonhomme Village\nTél : +33 (0)3 89 47 51 10\nFax : +33 (0)3 89
  47 23 85\ncontact@hotel-la-poste.com
LOCATION:Klosterparkplatz Haslach\, Klosterstrasse\, Haslach\, Deutschland\
 , 77716\, Bitte wählen Sie ein Bundesland aus\, Deutschland
GEO:48.276375;8.08459
X-APPLE-STRUCTURED-LOCATION;VALUE=URI;X-ADDRESS=Klosterstrasse\, Haslach\, 
 Deutschland\, 77716\, Bitte wählen Sie ein Bundesland aus\, Deutschland;X
 -APPLE-RADIUS=100;X-TITLE=Klosterparkplatz Haslach:geo:48.276375,8.08459
END:VEVENT
BEGIN:VTIMEZONE
TZID:Europe/Berlin
X-LIC-LOCATION:Europe/Berlin
BEGIN:DAYLIGHT
DTSTART:20210328T030000
TZOFFSETFROM:+0100
TZOFFSETTO:+0200
TZNAME:CEST
END:DAYLIGHT
END:VTIMEZONE
END:VCALENDAR