BEGIN:VCALENDAR
VERSION:2.0
PRODID:-//wp-events-plugin.com//7.2.3.1//EN
TZID:Europe/Berlin
X-WR-TIMEZONE:Europe/Berlin
BEGIN:VEVENT
UID:19@swv-haslach.de
DTSTART;TZID=Europe/Berlin:20210901T140000
DTEND;TZID=Europe/Berlin:20210901T160000
DTSTAMP:20210406T072234Z
URL:https://swv-haslach.de/events/heimische-tier-und-pflanzenwelt-in-zeite
 n-des-klimawandels-mit-dem-foerster-unterwegs/
SUMMARY:"Heimische Tier- und Pflanzenwelt in Zeiten des Klimawandels" –  
 Mit dem Förster unterwegs
DESCRIPTION:Für „große“ und „kleine“ Wanderer mit interessanten\n
 Einblicken in Wald und Natur. Unsere Wanderung führt\nuns über die Geden
 kstätte Vulkan vorbei am Rotweinbänkle bis zum Urenkopfturm.\n\n 	Kilome
 ter: 3\n 	Höhenmeter: 150\n 	Schwierigkeitsgrad: leicht\n\nTreff: 14.00 U
 hr Wanderparkplatz Vulkan (vor Deponie)\,\nDauer bis ca. 16.00 Uhr\nWander
 führer: Förster Frank Werstein\, Tel. 0162 253 57 70
LOCATION:Wanderparkplatz Deponie\, Deponie\, Haslach\, Deutschland\, 77716\
 , Bitte wählen Sie ein Bundesland aus\, Deutschland
GEO:48.266498;8.111153
X-APPLE-STRUCTURED-LOCATION;VALUE=URI;X-ADDRESS=Deponie\, Haslach\, Deutsch
 land\, 77716\, Bitte wählen Sie ein Bundesland aus\, Deutschland;X-APPLE-
 RADIUS=100;X-TITLE=Wanderparkplatz Deponie:geo:48.266498,8.111153
END:VEVENT
BEGIN:VTIMEZONE
TZID:Europe/Berlin
X-LIC-LOCATION:Europe/Berlin
BEGIN:DAYLIGHT
DTSTART:20210328T030000
TZOFFSETFROM:+0100
TZOFFSETTO:+0200
TZNAME:CEST
END:DAYLIGHT
END:VTIMEZONE
END:VCALENDAR