BEGIN:VCALENDAR
VERSION:2.0
PRODID:-//wp-events-plugin.com//7.2.3.1//EN
TZID:Europe/Berlin
X-WR-TIMEZONE:Europe/Berlin
BEGIN:VEVENT
UID:21@swv-haslach.de
DTSTART;TZID=Europe/Berlin:20210919T100000
DTEND;TZID=Europe/Berlin:20210919T190000
DTSTAMP:20210406T072356Z
URL:https://swv-haslach.de/events/goldener-kopf-tour/
SUMMARY:Goldener Kopf Tour
DESCRIPTION:Vom Bahnhof Elzach zum Bustberg\, Reichenbach\,\nSchrahöfe\, a
 n der Elz entlang zum Ankenbühl\, Fischerhütte\, Goldener Kopf\, Bahnhof
  Elzach. Rucksackverplegung mitnehmen.\n\nDie Schlusseinkehr ist in der\nP
 elzmühle vorgesehen.\n\n 	Kilometer: 11\n 	Höhenmeter: 411\n 	Schwierigk
 eit: mittel\n\nTreff: 10.00 Uhr Klosterparkplatz\nAnfahrt mit PKW-Fahrgeme
 inschaft\nWanderführer: Anita und Karl Dietrich
LOCATION:Klosterparkplatz Haslach\, Klosterstrasse\, Haslach\, Deutschland\
 , 77716\, Bitte wählen Sie ein Bundesland aus\, Deutschland
GEO:48.276375;8.08459
X-APPLE-STRUCTURED-LOCATION;VALUE=URI;X-ADDRESS=Klosterstrasse\, Haslach\, 
 Deutschland\, 77716\, Bitte wählen Sie ein Bundesland aus\, Deutschland;X
 -APPLE-RADIUS=100;X-TITLE=Klosterparkplatz Haslach:geo:48.276375,8.08459
END:VEVENT
BEGIN:VTIMEZONE
TZID:Europe/Berlin
X-LIC-LOCATION:Europe/Berlin
BEGIN:DAYLIGHT
DTSTART:20210328T030000
TZOFFSETFROM:+0100
TZOFFSETTO:+0200
TZNAME:CEST
END:DAYLIGHT
END:VTIMEZONE
END:VCALENDAR