BEGIN:VCALENDAR
VERSION:2.0
PRODID:-//wp-events-plugin.com//7.2.3.1//EN
TZID:Europe/Berlin
X-WR-TIMEZONE:Europe/Berlin
BEGIN:VEVENT
UID:18@swv-haslach.de
DTSTART;TZID=Europe/Berlin:20210822T100000
DTEND;TZID=Europe/Berlin:20210822T190000
DTSTAMP:20210406T072148Z
URL:https://swv-haslach.de/events/felsentour-variante/
SUMMARY:Felsentour ( Variante )
DESCRIPTION:Wir wandern von Oberprechtal (Ortsmitte) über Landwasser\, Pre
 chtaler Schanz\, Pfauen\, Huberfelsen\, und\nzurück nach Oberprechtal. Es
  gibt immer wieder schöne\nAusblicke. Rucksackverpflegung\, Getränke erf
 oderlich.\nSchlusseinkehr in Oberprechtal oder Haslach vorgesehen.\n\n 	Ki
 lometer: 13\n 	Höhenmeter: 400\n 	Schwierigkeit: leicht bis mittel\n\nTre
 ff: 10.00 Uhr Klosterparkplatz\nAn- und Rückfahrt Messmer-Bus\nAnmeldung 
 bis spätestens 18.08. in der Tourist Information\, Tel. 706-172 oder per 
 Mail an info@haslach.de\nWanderführer: Adolf Kopp
LOCATION:Klosterparkplatz Haslach\, Klosterstrasse\, Haslach\, Deutschland\
 , 77716\, Bitte wählen Sie ein Bundesland aus\, Deutschland
GEO:48.276375;8.08459
X-APPLE-STRUCTURED-LOCATION;VALUE=URI;X-ADDRESS=Klosterstrasse\, Haslach\, 
 Deutschland\, 77716\, Bitte wählen Sie ein Bundesland aus\, Deutschland;X
 -APPLE-RADIUS=100;X-TITLE=Klosterparkplatz Haslach:geo:48.276375,8.08459
END:VEVENT
BEGIN:VTIMEZONE
TZID:Europe/Berlin
X-LIC-LOCATION:Europe/Berlin
BEGIN:DAYLIGHT
DTSTART:20210328T030000
TZOFFSETFROM:+0100
TZOFFSETTO:+0200
TZNAME:CEST
END:DAYLIGHT
END:VTIMEZONE
END:VCALENDAR