BEGIN:VCALENDAR
VERSION:2.0
PRODID:-//wp-events-plugin.com//7.2.3.1//EN
TZID:Europe/Berlin
X-WR-TIMEZONE:Europe/Berlin
BEGIN:VEVENT
UID:42@swv-haslach.de
DTSTART;TZID=Europe/Berlin:20220522T080000
DTEND;TZID=Europe/Berlin:20220522T170000
DTSTAMP:20220116T151740Z
URL:https://swv-haslach.de/events/die-letzte-wildnis-am-oberrhein-bootsfah
 rt-im-naturparadies-taubergiessen/
SUMMARY:„Die letzte Wildnis am Oberrhein“ –  Bootsfahrt im Naturparad
 ies Taubergiessen
DESCRIPTION:Erleben Sie die Urlandschaft Taubergießen zwischen Schwarzwald
  und Vogesen einmal anders. Atmen Sie bei einer Bootsfahrt durch naturbela
 ssene Auwälder\nauf – inmitten einer herrlichen Pflanzen- und Blütenpr
 acht. Nach einer 2-stündigen Bootsfahrt wandern wir gemeinsam entlang der
  Orchideenwiesen durch das\nNaturschutzgebiet. Zurück an der Zuckerbrück
 e gibt es um 13.00 Uhr ein leckeres Mittagessen an einem idyllischen Grill
 platz.\n\nEine unvergessliche Tour für „große“ und „kleine“ Natu
 rliebhaber mit interessanten Einblicken in die Tier- und Pflanzenwelt des 
 Taubergießens.\n\nRückfahrt nach Haslach gegen 15.00 Uhr Kosten pro Pers
 on für die Bootsfahrt zwischen 10 und 15 Euro zuzügl. Busfahrt.\n\nTreff
 : 8.00 Uhr Klosterparkplatz\, Anfahrt mit Messmer-Bus\nAnmeldung bis spät
 estens 17.05. bei Frank Werstein\,\nTel. 0162/2535770 oder per Mail an\nfr
 ank.werstein@swv-haslach.de\nWanderführer: Frank Werstein
END:VEVENT
BEGIN:VTIMEZONE
TZID:Europe/Berlin
X-LIC-LOCATION:Europe/Berlin
BEGIN:DAYLIGHT
DTSTART:20220327T030000
TZOFFSETFROM:+0100
TZOFFSETTO:+0200
TZNAME:CEST
END:DAYLIGHT
END:VTIMEZONE
END:VCALENDAR